BEGIN:VCALENDAR
VERSION:2.0
PRODID:-//Armenische Gemeinde Neuwied - ECPv6.15.20//NONSGML v1.0//EN
CALSCALE:GREGORIAN
METHOD:PUBLISH
X-ORIGINAL-URL:https://neuwied.dakd.de
X-WR-CALDESC:Veranstaltungen für Armenische Gemeinde Neuwied
REFRESH-INTERVAL;VALUE=DURATION:PT1H
X-Robots-Tag:noindex
X-PUBLISHED-TTL:PT1H
BEGIN:VTIMEZONE
TZID:Europe/Berlin
BEGIN:DAYLIGHT
TZOFFSETFROM:+0100
TZOFFSETTO:+0200
TZNAME:CEST
DTSTART:20230326T010000
END:DAYLIGHT
BEGIN:STANDARD
TZOFFSETFROM:+0200
TZOFFSETTO:+0100
TZNAME:CET
DTSTART:20231029T010000
END:STANDARD
BEGIN:DAYLIGHT
TZOFFSETFROM:+0100
TZOFFSETTO:+0200
TZNAME:CEST
DTSTART:20240331T010000
END:DAYLIGHT
BEGIN:STANDARD
TZOFFSETFROM:+0200
TZOFFSETTO:+0100
TZNAME:CET
DTSTART:20241027T010000
END:STANDARD
BEGIN:DAYLIGHT
TZOFFSETFROM:+0100
TZOFFSETTO:+0200
TZNAME:CEST
DTSTART:20250330T010000
END:DAYLIGHT
BEGIN:STANDARD
TZOFFSETFROM:+0200
TZOFFSETTO:+0100
TZNAME:CET
DTSTART:20251026T010000
END:STANDARD
END:VTIMEZONE
BEGIN:VTIMEZONE
TZID:UTC
BEGIN:STANDARD
TZOFFSETFROM:+0000
TZOFFSETTO:+0000
TZNAME:UTC
DTSTART:20220101T000000
END:STANDARD
END:VTIMEZONE
BEGIN:VEVENT
DTSTART;TZID=Europe/Berlin:20241215T120000
DTEND;TZID=Europe/Berlin:20241215T140000
DTSTAMP:20260421T004759
CREATED:20241213T125530Z
LAST-MODIFIED:20241213T125621Z
UID:106048-1734264000-1734271200@neuwied.dakd.de
SUMMARY:Hl. Liturgie
DESCRIPTION:
URL:https://neuwied.dakd.de/gvk/hl-liturgie/
LOCATION:St. Bonifatiuskirche\, Kurt-Schumacher-Str. 3\, Neuwied\, Rheinland-Pfalz\, 56567\, Deutschland
CATEGORIES:Gottesdienst,Patarag
ATTACH;FMTTYPE=image/jpeg:https://neuwied.dakd.de/wp-content/uploads/2022/08/20170921_165744-01_resized.jpeg
END:VEVENT
BEGIN:VEVENT
DTSTART;TZID=Europe/Berlin:20240421T120000
DTEND;TZID=Europe/Berlin:20240421T140000
DTSTAMP:20260421T004759
CREATED:20240410T111428Z
LAST-MODIFIED:20240410T111428Z
UID:105917-1713700800-1713708000@neuwied.dakd.de
SUMMARY:Սբ․ Պատարագ - Hl. Liturgie
DESCRIPTION:
URL:https://neuwied.dakd.de/gvk/%d5%bd%d5%a2%e2%80%a4-%d5%ba%d5%a1%d5%bf%d5%a1%d6%80%d5%a1%d5%a3-hl-liturgie-3/
LOCATION:St. Bonifatiuskirche\, Kurt-Schumacher-Str. 3\, Neuwied\, Rheinland-Pfalz\, 56567\, Deutschland
CATEGORIES:Gottesdienst,Patarag
ATTACH;FMTTYPE=image/jpeg:https://neuwied.dakd.de/wp-content/uploads/2022/08/20170921_165744-01_resized.jpeg
ORGANIZER;CN="Armenische Gemeinde Neuwied e.V.":MAILTO:neuwied@dakd.de
END:VEVENT
BEGIN:VEVENT
DTSTART;TZID=UTC:20240317T120000
DTEND;TZID=UTC:20240317T140000
DTSTAMP:20260421T004759
CREATED:20240112T143701Z
LAST-MODIFIED:20240221T054213Z
UID:49425-1710676800-1710684000@neuwied.dakd.de
SUMMARY:Սբ․ Պատարագ - Hl. Liturgie
DESCRIPTION:
URL:https://neuwied.dakd.de/gvk/%d5%bd%d5%a2%e2%80%a4-%d5%ba%d5%a1%d5%bf%d5%a1%d6%80%d5%a1%d5%a3-hl-liturgie-4/
LOCATION:St. Bonifatiuskirche\, Kurt-Schumacher-Str. 3\, Neuwied\, Rheinland-Pfalz\, 56567\, Deutschland
CATEGORIES:Gottesdienst,Patarag
ATTACH;FMTTYPE=image/jpeg:https://neuwied.dakd.de/wp-content/uploads/2022/08/20170921_165744-01_resized.jpeg
ORGANIZER;CN="Armenische Gemeinde Neuwied e.V.":MAILTO:neuwied@dakd.de
END:VEVENT
BEGIN:VEVENT
DTSTART;TZID=UTC:20240301T190000
DTEND;TZID=UTC:20240301T200000
DTSTAMP:20260421T004759
CREATED:20240112T143335Z
LAST-MODIFIED:20240112T143335Z
UID:49421-1709319600-1709323200@neuwied.dakd.de
SUMMARY:Հսկում - Vesper
DESCRIPTION:
URL:https://neuwied.dakd.de/gvk/%d5%b0%d5%bd%d5%af%d5%b8%d6%82%d5%b4-vesper/
LOCATION:St. Bonifatiuskirche\, Kurt-Schumacher-Str. 3\, Neuwied\, Rheinland-Pfalz\, 56567\, Deutschland
CATEGORIES:Gottesdienst
ATTACH;FMTTYPE=image/jpeg:https://neuwied.dakd.de/wp-content/uploads/2024/01/1459771_259086717572584_573996546_n.jpg
ORGANIZER;CN="Armenische Gemeinde Neuwied e.V.":MAILTO:neuwied@dakd.de
END:VEVENT
BEGIN:VEVENT
DTSTART;TZID=UTC:20240218T120000
DTEND;TZID=UTC:20240218T140000
DTSTAMP:20260421T004759
CREATED:20240112T143059Z
LAST-MODIFIED:20240202T135353Z
UID:49419-1708257600-1708264800@neuwied.dakd.de
SUMMARY:Սբ․ Պատարագ - Hl. Liturgie und Mitgliederversammlung
DESCRIPTION:
URL:https://neuwied.dakd.de/gvk/%d5%bd%d5%a2%e2%80%a4-%d5%ba%d5%a1%d5%bf%d5%a1%d6%80%d5%a1%d5%a3-hl-liturgie-2/
LOCATION:St. Bonifatiuskirche\, Kurt-Schumacher-Str. 3\, Neuwied\, Rheinland-Pfalz\, 56567\, Deutschland
CATEGORIES:Gottesdienst,Patarag
ATTACH;FMTTYPE=image/jpeg:https://neuwied.dakd.de/wp-content/uploads/2022/08/20170921_165744-01_resized.jpeg
ORGANIZER;CN="Armenische Gemeinde Neuwied e.V.":MAILTO:neuwied@dakd.de
END:VEVENT
BEGIN:VEVENT
DTSTART;TZID=UTC:20240121T120000
DTEND;TZID=UTC:20240121T140000
DTSTAMP:20260421T004759
CREATED:20240112T142853Z
LAST-MODIFIED:20240112T142941Z
UID:49416-1705838400-1705845600@neuwied.dakd.de
SUMMARY:Սբ․ Պատարագ - Hl. Liturgie
DESCRIPTION:
URL:https://neuwied.dakd.de/gvk/%d5%bd%d5%a2%e2%80%a4-%d5%ba%d5%a1%d5%bf%d5%a1%d6%80%d5%a1%d5%a3-hl-liturgie/
LOCATION:St. Bonifatiuskirche\, Kurt-Schumacher-Str. 3\, Neuwied\, Rheinland-Pfalz\, 56567\, Deutschland
CATEGORIES:Gottesdienst,Patarag
ATTACH;FMTTYPE=image/jpeg:https://neuwied.dakd.de/wp-content/uploads/2022/08/20170921_165744-01_resized.jpeg
ORGANIZER;CN="Armenische Gemeinde Neuwied e.V.":MAILTO:neuwied@dakd.de
END:VEVENT
BEGIN:VEVENT
DTSTART;TZID=UTC:20231217T120000
DTEND;TZID=UTC:20231217T140000
DTSTAMP:20260421T004759
CREATED:20230420T212018Z
LAST-MODIFIED:20230420T212018Z
UID:22266-1702814400-1702821600@neuwied.dakd.de
SUMMARY:Hl. Liturgie
DESCRIPTION:
URL:https://neuwied.dakd.de/gvk/hl-liturgie-11/
LOCATION:St. Bonifatiuskirche\, Kurt-Schumacher-Str. 3\, Neuwied\, Rheinland-Pfalz\, 56567\, Deutschland
CATEGORIES:Gottesdienst,Patarag
ATTACH;FMTTYPE=image/jpeg:https://neuwied.dakd.de/wp-content/uploads/2022/08/20170921_165744-01_resized.jpeg
ORGANIZER;CN="Armenische Gemeinde Neuwied e.V.":MAILTO:neuwied@dakd.de
END:VEVENT
BEGIN:VEVENT
DTSTART;TZID=UTC:20231202T160000
DTEND;TZID=UTC:20231202T170000
DTSTAMP:20260421T004759
CREATED:20230420T211923Z
LAST-MODIFIED:20230420T211923Z
UID:22264-1701532800-1701536400@neuwied.dakd.de
SUMMARY:Bibelgespräch
DESCRIPTION:
URL:https://neuwied.dakd.de/gvk/bibelgespraech-10/
LOCATION:Pfarrheim St. Bonifatiuskirche\, Kurt-Schumacher-Str. 3\, Neuwied\, 56567\, Deutschland
CATEGORIES:Veranstaltung
ATTACH;FMTTYPE=image/jpeg:https://neuwied.dakd.de/wp-content/uploads/2022/08/Աւետարան-Սարգիս-Պիծակ-Սիս-1350.jpg
ORGANIZER;CN="Armenische Gemeinde Neuwied e.V.":MAILTO:neuwied@dakd.de
END:VEVENT
BEGIN:VEVENT
DTSTART;TZID=UTC:20231119T120000
DTEND;TZID=UTC:20231119T140000
DTSTAMP:20260421T004759
CREATED:20230420T211827Z
LAST-MODIFIED:20230420T211827Z
UID:22262-1700395200-1700402400@neuwied.dakd.de
SUMMARY:Hl. Liturgie
DESCRIPTION:
URL:https://neuwied.dakd.de/gvk/hl-liturgie-10/
LOCATION:St. Bonifatiuskirche\, Kurt-Schumacher-Str. 3\, Neuwied\, Rheinland-Pfalz\, 56567\, Deutschland
CATEGORIES:Gottesdienst,Patarag
ATTACH;FMTTYPE=image/jpeg:https://neuwied.dakd.de/wp-content/uploads/2022/08/20170921_165744-01_resized.jpeg
ORGANIZER;CN="Armenische Gemeinde Neuwied e.V.":MAILTO:neuwied@dakd.de
END:VEVENT
BEGIN:VEVENT
DTSTART;TZID=UTC:20231104T183000
DTEND;TZID=UTC:20231104T193000
DTSTAMP:20260421T004759
CREATED:20230420T211732Z
LAST-MODIFIED:20231101T094250Z
UID:22259-1699122600-1699126200@neuwied.dakd.de
SUMMARY:Հսկում - Vesper
DESCRIPTION:
URL:https://neuwied.dakd.de/gvk/bibelgespraech-9/
LOCATION:St. Bonifatiuskirche\, Kurt-Schumacher-Str. 3\, Neuwied\, Rheinland-Pfalz\, 56567\, Deutschland
CATEGORIES:Veranstaltung
ATTACH;FMTTYPE=image/jpeg:https://neuwied.dakd.de/wp-content/uploads/2023/11/398372761_2089746568033827_5946083155497577103_n.jpg
ORGANIZER;CN="Armenische Gemeinde Neuwied e.V.":MAILTO:neuwied@dakd.de
END:VEVENT
END:VCALENDAR