BEGIN:VCALENDAR
VERSION:2.0
PRODID:-//Armenische Gemeinde Neuwied - ECPv6.15.20//NONSGML v1.0//EN
CALSCALE:GREGORIAN
METHOD:PUBLISH
X-WR-CALNAME:Armenische Gemeinde Neuwied
X-ORIGINAL-URL:https://neuwied.dakd.de/am
X-WR-CALDESC:Events for Armenische Gemeinde Neuwied
REFRESH-INTERVAL;VALUE=DURATION:PT1H
X-Robots-Tag:noindex
X-PUBLISHED-TTL:PT1H
BEGIN:VTIMEZONE
TZID:Europe/Berlin
BEGIN:DAYLIGHT
TZOFFSETFROM:+0100
TZOFFSETTO:+0200
TZNAME:CEST
DTSTART:20250330T010000
END:DAYLIGHT
BEGIN:STANDARD
TZOFFSETFROM:+0200
TZOFFSETTO:+0100
TZNAME:CET
DTSTART:20251026T010000
END:STANDARD
BEGIN:DAYLIGHT
TZOFFSETFROM:+0100
TZOFFSETTO:+0200
TZNAME:CEST
DTSTART:20260329T010000
END:DAYLIGHT
BEGIN:STANDARD
TZOFFSETFROM:+0200
TZOFFSETTO:+0100
TZNAME:CET
DTSTART:20261025T010000
END:STANDARD
BEGIN:DAYLIGHT
TZOFFSETFROM:+0100
TZOFFSETTO:+0200
TZNAME:CEST
DTSTART:20270328T010000
END:DAYLIGHT
BEGIN:STANDARD
TZOFFSETFROM:+0200
TZOFFSETTO:+0100
TZNAME:CET
DTSTART:20271031T010000
END:STANDARD
END:VTIMEZONE
BEGIN:VEVENT
DTSTART;TZID=Europe/Berlin:20260425T130000
DTEND;TZID=Europe/Berlin:20260425T133000
DTSTAMP:20260421T034900
CREATED:20260409T094632Z
LAST-MODIFIED:20260409T094632Z
UID:106177-1777122000-1777123800@neuwied.dakd.de
SUMMARY:Genozid-Gedenken 2026
DESCRIPTION:
URL:https://neuwied.dakd.de/am/gvk/genozid-gedenken-2026/
LOCATION:Kreustein\, Ecke Langendorfer und Andernacher Str.\, Neuwied\, Deutschland
CATEGORIES:Veranstaltung
ATTACH;FMTTYPE=image/png:https://neuwied.dakd.de/wp-content/uploads/2026/04/Ueberschrift-1.png
ORGANIZER;CN="Armenische Gemeinde Neuwied e.V.":MAILTO:neuwied@dakd.de
END:VEVENT
END:VCALENDAR